Workbook

Sheet 必ずお読みください
A2: 【入力上の注意点】
B4: ①入力は、青いタグ「申込書（入力用紙」のみ、に入力してください。（書式をいじらずに入力）
B5: 外字や特殊な字に関しては反映できない場合もありますのでご了承ください。
B7: ②赤いタグ（プログラム、団体名札）には、一切触らないようにお願いします。
B9: ③入力後のデータは、申込先へメールで送信お願いします。受付メールを返信しますので、確認お願いします。
B11: ④極力データで送っていただきますようお願いいたしますが、どうしてもデータ送信が出来ない団体は、申込書を印刷し、押印の上、郵送でお願いします。

Sheet 申込書（入力用紙）
B1: 第３７回 マルちゃん杯東北少年柔道大会 参加申込書
A3: 【 中学女子の部 】
B4: （ ﾌ ﾘ ｶ ﾞﾅ ） | N4: チーム名略称（4字以内）
B5: チーム名
B6: 全柔連登録 チームID | N6: 県名 | AA6: 県
B7: 代表者名
B8: 代表者住所 | E8: 〒
B10: 代表者連絡先 | E10: 自宅 電話 | O10: 携帯 電話
B11: 監督名 | O11: 登録ＩＤ
B12: （監督連絡先） | E12: 自宅 電話 | O12: 携帯 電話
A13: 選手 | E13: （ ﾌ ﾘ ｶﾞ ﾅ ） | N13: 個人登録ID | W13: 学年 | Y13: 身長 | AA13: 体重
E14: 姓 | J14: 名 | N14: 学 校 名
A15: 大将
AF16: 青 森
A17: 中堅 | AF17: 岩 手 | AG17: ２
AF18: 秋 田 | AG18: ３
A19: 先鋒 | AF19: 山 形 | AG19: ６
AF20: 宮 城 | AG20: ７
A21: 補欠 | AF21: 福 島
B23: ※体重の軽い順に先鋒から配置してください。 | M23: ※身長・体重は整数で記入してください。
B25: ◎マルちゃん杯東北大会柔道教室（黄色枠のどちらかに○をつけ、参加人数を記入してください）
F27: 参加する | M27: 参加人数 | N27: （ | R27: ） | S27: 人
F28: 参加しない
B30: 以上のとおり申し込みいたします。
L31: 令和６年 | Q31: 月 | T31: 日
L32: 申込み責任者 | AB32: 印

Sheet 触らない→

Sheet プログラム
B4: ='申込書（入力用紙）'!$E$5 -> 0 | E4: （ | F4: ='申込書（入力用紙）'!$Q$6 -> 0 | G4: ）
D5: 監督 | E5: ='申込書（入力用紙）'!$E$11 -> 0
A6: 順序 | B6: 氏名 | D6: 学校名 | E6: 学年 | F6: 身長 | G6: 体重
A7: 大将 | B7: ='申込書（入力用紙）'!$E$16 -> 0 | C7: ='申込書（入力用紙）'!$J$16 -> 0 | D7: ='申込書（入力用紙）'!$N$16 -> 0 | E7: ='申込書（入力用紙）'!$W$15 -> 0 | F7: ='申込書（入力用紙）'!$Y$15 -> 0 | G7: ='申込書（入力用紙）'!$AA$15 -> 0
A8: 中堅 | B8: ='申込書（入力用紙）'!$E$18 -> 0 | C8: ='申込書（入力用紙）'!$J$18 -> 0 | D8: ='申込書（入力用紙）'!$N$18 -> 0 | E8: ='申込書（入力用紙）'!$W$17 -> 0 | F8: ='申込書（入力用紙）'!$Y$17 -> 0 | G8: ='申込書（入力用紙）'!$AA$17 -> 0
A9: 先鋒 | B9: ='申込書（入力用紙）'!$E$20 -> 0 | C9: ='申込書（入力用紙）'!$J$20 -> 0 | D9: ='申込書（入力用紙）'!$N$20 -> 0 | E9: ='申込書（入力用紙）'!$W$19 -> 0 | F9: ='申込書（入力用紙）'!$Y$19 -> 0 | G9: ='申込書（入力用紙）'!$AA$19 -> 0
A10: 補欠 | B10: ='申込書（入力用紙）'!$E$22 -> 0 | C10: ='申込書（入力用紙）'!$J$22 -> 0 | D10: ='申込書（入力用紙）'!$N$22 -> 0 | E10: ='申込書（入力用紙）'!$W$21 -> 0 | F10: ='申込書（入力用紙）'!$Y$21 -> 0 | G10: ='申込書（入力用紙）'!$AA$21 -> 0

Sheet 団体名札
A1: ='申込書（入力用紙）'!$N$5 -> 0 | B1: ='申込書（入力用紙）'!$A$19 -> 先鋒 | C1: ='申込書（入力用紙）'!$N$5 -> 0 | D1: ='申込書（入力用紙）'!$A$17 -> 中堅 | E1: ='申込書（入力用紙）'!$N$5 -> 0 | F1: ='申込書（入力用紙）'!$A$15 -> 大将 | G1: ='申込書（入力用紙）'!$N$5 -> 0 | H1: ='申込書（入力用紙）'!$A$21 -> 補欠 | I1: ='申込書（入力用紙）'!$N$5 -> 0
B2: ='申込書（入力用紙）'!$E$20 -> 0 | D2: ='申込書（入力用紙）'!$E$18 -> 0 | F2: ='申込書（入力用紙）'!$E$16 -> 0 | H2: ='申込書（入力用紙）'!$E$22 -> 0
